{ "currentVersion": 11.1, "serviceDescription": "
Recreation index for the Washington Habitat Connectivity Action Plan. Recreation index was one of several components of the human footprint layer used by TerrAdapt to create the Ecosystem Core and Corridor models. It is scaled between 0 and 100.<\/SPAN><\/P> Participants in the WAHCAP advisory groups and workshops voiced significant concerns about the current and rapidly increasing impacts that recreational activities (e.g., hiking, biking, snowmobiles, off-road vehicles, and target practice) have on connectivity functions and values in Washington\u2019s public lands and particularly in the Cascade mountains. Significant recent increases in number of visitors to many areas has led to dramatic impacts on the ecological structure and function of these areas with particularly negative impacts on many wildlife species like elk. <\/SPAN><\/P> TerrAdapt\u2019s human footprint model included impacts of recreation by calculating road density (as an indicator of human access and activity). In addition, the model included hiking and biking trails, campgrounds, backcountry campsites, ski areas, and resource roads that provide access to off-trail areas as well as urban trails and walkways. These activities were represented in the model as site-level effects as well as distance effects radiating from the source to account for noise, light, invasive species, and other impacts. We heard differing perspectives in our TAG meetings about the relative impact of recreation activities per se, with some experts advocating for human footprint values associated with the features to be much higher and more comparable to road and other human infrastructure. <\/SPAN><\/P><\/DIV><\/DIV><\/DIV>",
"name": "HP_WAHCAP/recreation_index_Full",
"description": " Recreation index for the Washington Habitat Connectivity Action Plan. Recreation index was one of several components of the human footprint layer used by TerrAdapt to create the Ecosystem Core and Corridor models. It is scaled between 0 and 100.<\/span><\/p> Participants in the WAHCAP advisory groups and workshops voiced significant concerns about the current and rapidly increasing impacts that recreational activities (e.g., hiking, biking, snowmobiles, off-road vehicles, and target practice) have on connectivity functions and values in Washington\u2019s public lands and particularly in the Cascade mountains. Significant recent increases in number of visitors to many areas has led to dramatic impacts on the ecological structure and function of these areas with particularly negative impacts on many wildlife species like elk. <\/span><\/p> TerrAdapt\u2019s human footprint model included impacts of recreation by calculating road density (as an indicator of human access and activity). In addition, the model included hiking and biking trails, campgrounds, backcountry campsites, ski areas, and resource roads that provide access to off-trail areas as well as urban trails and walkways. These activities were represented in the model as site-level effects as well as distance effects radiating from the source to account for noise, light, invasive species, and other impacts. We heard differing perspectives in our TAG meetings about the relative impact of recreation activities per se, with some experts advocating for human footprint values associated with the features to be much higher and more comparable to road and other human infrastructure. <\/span><\/p><\/div><\/div><\/div>",
"extent": {
"xmin": 526388.7549654087,
"ymin": 76154.21590965753,
"xmax": 2558681.8639116725,
"ymax": 1367512.9145431812,
"spatialReference": {
"wkid": 2927,
"latestWkid": 2927
}
},
"initialExtent": {
"xmin": 526388.7549654087,
"ymin": 76154.21590965753,
"xmax": 2558681.8639116725,
"ymax": 1367512.9145431812,
"spatialReference": {
"wkid": 2927,
"latestWkid": 2927
}
},
"fullExtent": {
"xmin": 526388.7549654087,
"ymin": 76154.21590965753,
"xmax": 2558681.8639116725,
"ymax": 1367512.9145431812,
"spatialReference": {
"wkid": 2927,
"latestWkid": 2927
}
},
"sortableFields": "",
"bandCount": 1,
"pixelType": "U8",
"minValues": [
0
],
"maxValues": [
90
],
"meanValues": [
16.503274660427557
],
"stdvValues": [
15.04529600964841
],
"hasMultidimensions": false,
"pixelSizeX": 277.71154809323093,
"pixelSizeY": 277.7115480932309,
"datasetFormat": "FGDBR",
"uncompressedSize": 34024050,
"blockWidth": 128,
"blockHeight": 128,
"compressionType": "LZ77",
"bandNames": [
"Band_1"
],
"allowCopy": true,
"allowAnalysis": true,
"itemAccess": false,
"minPixelSize": 0,
"maxPixelSize": 0,
"copyrightText": "This layer was developed for the 2025 Washington Habitat Connectivity Action Plan by TerrAdapt (https://terradapt.org/).",
"serviceDataType": "esriImageServiceDataTypeGeneric",
"serviceSourceType": "esriImageServiceSourceTypeDataset",
"objectIdField": "",
"fields": [],
"capabilities": "Image,Metadata,Mensuration",
"defaultMosaicMethod": "Center",
"allowedMosaicMethods": "",
"sortField": "",
"sortValue": null,
"sortAscending": true,
"mosaicOperator": "First",
"defaultCompressionQuality": 75,
"defaultResamplingMethod": "Nearest",
"maxImageHeight": 4100,
"maxImageWidth": 15000,
"allowRasterFunction": true,
"rasterFunctionInfos": [
{
"name": "None",
"description": "",
"help": ""
}
],
"rasterTypeInfos": [
{
"name": "Raster Dataset",
"description": "Supports all ArcGIS Raster Datasets",
"help": ""
}
],
"mensurationCapabilities": "Basic",
"hasHistograms": true,
"hasColormap": false,
"hasRasterAttributeTable": false,
"minScale": 0,
"maxScale": 0,
"exportTilesAllowed": false,
"supportsStatistics": false,
"supportsAdvancedQueries": false,
"editFieldsInfo": null,
"ownershipBasedAccessControlForRasters": null,
"allowComputeTiePoints": false,
"useStandardizedQueries": true,
"advancedQueryCapabilities": {
"useStandardizedQueries": true,
"supportsStatistics": false,
"supportsOrderBy": false,
"supportsDistinct": false,
"supportsPagination": false
},
"spatialReference": {
"wkid": 2927,
"latestWkid": 2927
}
}